Index of /checkResults/devel/workflows-LATEST/TCGAWorkflow/raw-results

[ICO]NameLast modifiedSizeDescription

[DIR]Parent Directory  -  
[   ]info.dcf22-May-2024 03:00 282  
[DIR]merida1/22-May-2024 03:00 -  
[DIR]nebbiolo2/22-May-2024 03:00 -  
[DIR]palomino4/22-May-2024 03:00 -