Index of /checkResults/devel/workflows-LATEST/TCGAWorkflow/raw-results

[ICO]NameLast modifiedSizeDescription

[DIR]Parent Directory  -  
[DIR]palomino4/15-Jun-2024 05:30 -  
[DIR]nebbiolo2/15-Jun-2024 05:30 -  
[DIR]merida1/12-Jun-2024 05:30 -  
[DIR]lconway/15-Jun-2024 05:30 -  
[   ]info.dcf15-Jun-2024 05:30 282