Index of /checkResults/devel/workflows-LATEST/TCGAWorkflow/raw-results/nebbiolo2

[ICO]NameLast modifiedSizeDescription

[DIR]Parent Directory  -  
[TXT]buildsrc-out.txt15-Jun-2024 05:30 826  
[   ]buildsrc-summary.dcf15-Jun-2024 05:30 434  
[TXT]install-out.txt15-Jun-2024 05:30 2.6K 
[   ]install-summary.dcf15-Jun-2024 05:30 269