Index of /checkResults/devel/data-experiment-LATEST/pasillaBamSubset/raw-results
Name
Last modified
Size
Description
Parent Directory
-
info.dcf
25-May-2022 03:50
290
nebbiolo2/
25-May-2022 03:50
-