Index of /checkResults/devel/data-experiment-LATEST/Single.mTEC.Transcriptomes/raw-results

[ICO]NameLast modifiedSizeDescription

[DIR]Parent Directory  -  
[   ]info.dcf18-May-2022 03:50 314  
[DIR]nebbiolo2/18-May-2022 03:50 -