Index of /checkResults/devel/data-experiment-LATEST/ALL/raw-results
Name
Last modified
Size
Description
Parent Directory
-
info.dcf
01-Jul-2022 03:50
259
nebbiolo2/
01-Jul-2022 03:50
-