Index of /checkResults/devel/bioc-LATEST/tricycle/raw-results
Name
Last modified
Size
Description
Parent Directory
-
nebbiolo2/
01-Oct-2023 00:36
-
palomino4/
01-Oct-2023 00:38
-
lconway/
01-Oct-2023 00:39
-
info.dcf
01-Oct-2023 00:40
267
kunpeng2/
01-Oct-2023 00:40
-