![]() | Name | Last modified | Size | Description |
---|---|---|---|---|
![]() | Parent Directory | - | ||
![]() | buildbin-out.txt | 24-Sep-2023 00:39 | 1.2K | |
![]() | buildbin-summary.dcf | 24-Sep-2023 00:39 | 533 | |
![]() | buildsrc-out.txt | 24-Sep-2023 00:39 | 882 | |
![]() | buildsrc-summary.dcf | 24-Sep-2023 00:39 | 428 | |
![]() | checksrc-out.txt | 24-Sep-2023 00:39 | 3.9K | |
![]() | checksrc-summary.dcf | 24-Sep-2023 00:39 | 446 | |
![]() | install-out.txt | 24-Sep-2023 00:39 | 1.0K | |
![]() | install-summary.dcf | 24-Sep-2023 00:39 | 270 | |