Index of /checkResults/devel/bioc-LATEST/tricycle/raw-results/palomino3

[ICO]NameLast modifiedSizeDescription

[DIR]Parent Directory  -  
[TXT]buildbin-out.txt29-Mar-2024 00:38 1.1K 
[   ]buildbin-summary.dcf29-Mar-2024 00:38 521  
[TXT]buildsrc-out.txt29-Mar-2024 00:38 904  
[   ]buildsrc-summary.dcf29-Mar-2024 00:38 457  
[TXT]checksrc-out.txt29-Mar-2024 00:38 4.1K 
[   ]checksrc-summary.dcf29-Mar-2024 00:38 451  
[TXT]install-out.txt29-Mar-2024 00:38 1.0K 
[   ]install-summary.dcf29-Mar-2024 00:38 270