![]() | Name | Last modified | Size | Description |
---|---|---|---|---|
![]() | Parent Directory | - | ||
![]() | buildsrc-out.txt | 29-Sep-2023 00:41 | 866 | |
![]() | buildsrc-summary.dcf | 29-Sep-2023 00:41 | 412 | |
![]() | checksrc-out.txt | 29-Sep-2023 00:41 | 3.9K | |
![]() | checksrc-summary.dcf | 29-Sep-2023 00:41 | 404 | |
![]() | install-out.txt | 29-Sep-2023 00:41 | 971 | |
![]() | install-summary.dcf | 29-Sep-2023 00:41 | 254 | |