![]() | Name | Last modified | Size | Description |
---|---|---|---|---|
![]() | Parent Directory | - | ||
![]() | buildsrc-out.txt | 03-Oct-2023 00:40 | 796 | |
![]() | buildsrc-summary.dcf | 03-Oct-2023 00:40 | 409 | |
![]() | checksrc-out.txt | 03-Oct-2023 00:40 | 6.5K | |
![]() | checksrc-summary.dcf | 03-Oct-2023 00:40 | 399 | |
![]() | install-out.txt | 03-Oct-2023 00:40 | 937 | |
![]() | install-summary.dcf | 03-Oct-2023 00:40 | 251 | |