Index of /checkResults/devel/bioc-LATEST/sesame/raw-results/lconway

[ICO]NameLast modifiedSizeDescription

[DIR]Parent Directory  -  
[TXT]buildbin-out.txt30-Sep-2023 01:05 1.1K 
[   ]buildbin-summary.dcf30-Sep-2023 01:05 524  
[TXT]buildsrc-out.txt30-Sep-2023 01:05 812  
[   ]buildsrc-summary.dcf30-Sep-2023 01:05 425  
[TXT]checksrc-out.txt30-Sep-2023 01:05 5.3K 
[   ]checksrc-summary.dcf30-Sep-2023 01:05 441  
[TXT]install-out.txt30-Sep-2023 01:05 1.0K 
[   ]install-summary.dcf30-Sep-2023 01:05 267