![]() | Name | Last modified | Size | Description |
---|---|---|---|---|
![]() | Parent Directory | - | ||
![]() | buildsrc-out.txt | 29-Sep-2023 00:37 | 802 | |
![]() | buildsrc-summary.dcf | 29-Sep-2023 00:37 | 414 | |
![]() | checksrc-out.txt | 29-Sep-2023 00:37 | 5.6K | |
![]() | checksrc-summary.dcf | 29-Sep-2023 00:37 | 411 | |
![]() | install-out.txt | 29-Sep-2023 00:37 | 949 | |
![]() | install-summary.dcf | 29-Sep-2023 00:37 | 257 | |