Index of /checkResults/devel/bioc-LATEST/scde/raw-results/merida1

[ICO]NameLast modifiedSizeDescription

[DIR]Parent Directory  -  
[TXT]buildbin-out.txt08-Feb-2023 01:07 7.6K 
[   ]buildbin-summary.dcf08-Feb-2023 01:07 513  
[TXT]buildsrc-out.txt08-Feb-2023 01:07 747  
[   ]buildsrc-summary.dcf08-Feb-2023 01:07 417  
[TXT]checksrc-out.txt08-Feb-2023 01:07 30K 
[   ]checksrc-summary.dcf08-Feb-2023 01:07 438  
[TXT]install-out.txt08-Feb-2023 01:07 6.4K 
[   ]install-summary.dcf08-Feb-2023 01:07 264