Index of /checkResults/devel/bioc-LATEST/scde/raw-results/merida1

[ICO]NameLast modifiedSizeDescription

[DIR]Parent Directory  -  
[TXT]buildbin-out.txt23-May-2024 00:38 8.2K 
[   ]buildbin-summary.dcf23-May-2024 00:38 513  
[TXT]buildsrc-out.txt23-May-2024 00:38 747  
[   ]buildsrc-summary.dcf23-May-2024 00:38 417  
[TXT]checksrc-out.txt23-May-2024 00:38 34K 
[   ]checksrc-summary.dcf23-May-2024 00:38 438  
[TXT]install-out.txt23-May-2024 00:38 4.8K 
[   ]install-summary.dcf23-May-2024 00:38 264