Index of /checkResults/devel/bioc-LATEST/scde/raw-results

[ICO]NameLast modifiedSizeDescription

[DIR]Parent Directory  -  
[DIR]riesling1/25-Jan-2022 01:08 -  
[DIR]palomino3/25-Jan-2022 01:10 -  
[DIR]nebbiolo1/25-Jan-2022 01:06 -  
[DIR]merida1/25-Jan-2022 01:12 -  
[   ]info.dcf25-Jan-2022 01:12 250