Index of /checkResults/devel/bioc-LATEST/scde/raw-results/kjohnson3

[ICO]NameLast modifiedSizeDescription

[DIR]Parent Directory  -  
[TXT]buildbin-out.txt19-Jul-2024 00:43 8.2K 
[   ]buildbin-summary.dcf19-Jul-2024 00:43 512  
[TXT]buildsrc-out.txt19-Jul-2024 00:43 747  
[   ]buildsrc-summary.dcf19-Jul-2024 00:43 417  
[TXT]checksrc-out.txt19-Jul-2024 00:43 34K 
[   ]checksrc-summary.dcf19-Jul-2024 00:43 437  
[TXT]install-out.txt19-Jul-2024 00:43 4.8K 
[   ]install-summary.dcf19-Jul-2024 00:43 263