Index of /checkResults/devel/bioc-LATEST/scde/raw-results/nebbiolo2

[ICO]NameLast modifiedSizeDescription

[DIR]Parent Directory  -  
[TXT]buildsrc-out.txt16-Jun-2024 01:33 761  
[   ]buildsrc-summary.dcf16-Jun-2024 01:33 413  
[TXT]checksrc-out.txt16-Jun-2024 01:33 33K 
[   ]checksrc-summary.dcf16-Jun-2024 01:33 408  
[TXT]install-out.txt16-Jun-2024 01:33 4.8K 
[   ]install-summary.dcf16-Jun-2024 01:33 253