Index of /checkResults/devel/bioc-LATEST/scAnnotatR/raw-results
Name
Last modified
Size
Description
Parent Directory
-
nebbiolo2/
29-Sep-2023 00:37
-
palomino4/
29-Sep-2023 00:38
-
lconway/
29-Sep-2023 00:39
-
info.dcf
29-Sep-2023 00:41
282
kunpeng2/
29-Sep-2023 00:41
-