![]() | Name | Last modified | Size | Description |
---|---|---|---|---|
![]() | Parent Directory | - | ||
![]() | buildsrc-out.txt | 03-Oct-2023 00:40 | 811 | |
![]() | buildsrc-summary.dcf | 03-Oct-2023 00:40 | 419 | |
![]() | checksrc-out.txt | 03-Oct-2023 00:40 | 4.0K | |
![]() | checksrc-summary.dcf | 03-Oct-2023 00:40 | 419 | |
![]() | install-out.txt | 03-Oct-2023 00:40 | 1.3K | |
![]() | install-summary.dcf | 03-Oct-2023 00:40 | 258 | |