Index of /checkResults/devel/bioc-LATEST/scAnnotatR/raw-results/merida1

[ICO]NameLast modifiedSizeDescription

[DIR]Parent Directory  -  
[TXT]buildbin-out.txt29-Feb-2024 01:39 1.5K 
[   ]buildbin-summary.dcf29-Feb-2024 01:39 546  
[TXT]buildsrc-out.txt29-Feb-2024 01:39 827  
[   ]buildsrc-summary.dcf29-Feb-2024 01:39 434  
[TXT]checksrc-out.txt29-Feb-2024 01:39 3.9K 
[   ]checksrc-summary.dcf29-Feb-2024 01:39 461  
[TXT]install-out.txt29-Feb-2024 01:39 1.3K 
[   ]install-summary.dcf29-Feb-2024 01:39 275