Index of /checkResults/devel/bioc-LATEST/scAnnotatR/raw-results/lconway

[ICO]NameLast modifiedSizeDescription

[DIR]Parent Directory  -  
[TXT]buildbin-out.txt30-Sep-2023 01:05 1.5K 
[   ]buildbin-summary.dcf30-Sep-2023 01:05 545  
[TXT]buildsrc-out.txt30-Sep-2023 01:05 827  
[   ]buildsrc-summary.dcf30-Sep-2023 01:05 435  
[TXT]checksrc-out.txt30-Sep-2023 01:05 3.8K 
[   ]checksrc-summary.dcf30-Sep-2023 01:05 460  
[TXT]install-out.txt30-Sep-2023 01:05 1.3K 
[   ]install-summary.dcf30-Sep-2023 01:05 274