Back to Multiple platform build/check report for BioC 3.17
ABCDEFGHIJKLMNOPQ[R]STUVWXYZ

This page was generated on 2022-12-06 11:10:10 -0500 (Tue, 06 Dec 2022).

HostnameOSArch (*)R versionInstalled pkgs
nebbiolo1Linux (Ubuntu 22.04.1 LTS)x86_64R Under development (unstable) (2022-11-30 r83393) -- "Unsuffered Consequences" 4277
palomino3Windows Server 2022 Datacenterx64R Under development (unstable) (2022-11-30 r83393 ucrt) -- "Unsuffered Consequences" 4193
merida1macOS 10.14.6 Mojavex86_64R Under development (unstable) (2022-11-30 r83393) -- "Unsuffered Consequences" 4236
Click on any hostname to see more info about the system (e.g. compilers)      (*) as reported by 'uname -p', except on Windows and Mac OS X

BUILD results for randRotation on merida1


To the developers/maintainers of the randRotation package:
- Please allow up to 24 hours (and sometimes 48 hours) for your latest push to git@git.bioconductor.org:packages/randRotation.git to
reflect on this report. See How and When does the builder pull? When will my changes propagate? for more information.
- Make sure to use the following settings in order to reproduce any error or warning you see on this page.

raw results

Package 1576/2155HostnameOS / ArchINSTALLBUILDCHECKBUILD BIN
randRotation 1.11.0  (landing page)
Peter Hettegger
Snapshot Date: 2022-12-05 14:00:11 -0500 (Mon, 05 Dec 2022)
git_url: https://git.bioconductor.org/packages/randRotation
git_branch: master
git_last_commit: 594b5e0
git_last_commit_date: 2022-11-01 11:21:54 -0500 (Tue, 01 Nov 2022)
nebbiolo1Linux (Ubuntu 22.04.1 LTS) / x86_64  OK    ERROR  skipped
palomino3Windows Server 2022 Datacenter / x64  OK    OK    ERROR    OK  
merida1macOS 10.14.6 Mojave / x86_64  OK    OK    ERROR    OK  

Summary

Package: randRotation
Version: 1.11.0
Command: /Library/Frameworks/R.framework/Resources/bin/R CMD build --keep-empty-dirs --no-resave-data randRotation
StartedAt: 2022-12-05 20:23:35 -0500 (Mon, 05 Dec 2022)
EndedAt: 2022-12-05 20:29:14 -0500 (Mon, 05 Dec 2022)
EllapsedTime: 338.1 seconds
RetCode: 0
Status:   OK  
PackageFile: randRotation_1.11.0.tar.gz
PackageFileSize: 962.5 KiB

Command output

##############################################################################
##############################################################################
###
### Running command:
###
###   /Library/Frameworks/R.framework/Resources/bin/R CMD build --keep-empty-dirs --no-resave-data randRotation
###
##############################################################################
##############################################################################


* checking for file ‘randRotation/DESCRIPTION’ ... OK
* preparing ‘randRotation’:
* checking DESCRIPTION meta-information ... OK
* installing the package to process help pages
Loading required namespace: randRotation
* saving partial Rd database
* creating vignettes ... OK
* checking for LF line-endings in source and make files and shell scripts
* checking for empty or unneeded directories
Omitted ‘LazyData’ from DESCRIPTION
* building ‘randRotation_1.11.0.tar.gz’