Back to Multiple platform build/check report for BioC 3.17:   simplified   long
ABCDEFGHIJKLMNOPQ[R]STUVWXYZ

This page was generated on 2023-03-29 11:06:35 -0400 (Wed, 29 Mar 2023).

HostnameOSArch (*)R versionInstalled pkgs
nebbiolo1Linux (Ubuntu 22.04.1 LTS)x86_64R Under development (unstable) (2023-03-16 r83996) -- "Unsuffered Consequences" 4547
palomino3Windows Server 2022 Datacenterx64R Under development (unstable) (2023-03-15 r83984 ucrt) -- "Unsuffered Consequences" 4308
merida1macOS 10.14.6 Mojavex86_64R Under development (unstable) (2023-03-16 r83985) -- "Unsuffered Consequences" 4301
Click on any hostname to see more info about the system (e.g. compilers)      (*) as reported by 'uname -p', except on Windows and Mac OS X

CHECK results for rWikiPathways on merida1


To the developers/maintainers of the rWikiPathways package:
- Please allow up to 24 hours (and sometimes 48 hours) for your latest push to git@git.bioconductor.org:packages/rWikiPathways.git to
reflect on this report. See How and When does the builder pull? When will my changes propagate? for more information.
- Make sure to use the following settings in order to reproduce any error or warning you see on this page.

raw results

Package 1771/2195HostnameOS / ArchINSTALLBUILDCHECKBUILD BIN
rWikiPathways 1.19.1  (landing page)
Egon Willighagen
Snapshot Date: 2023-03-28 14:00:22 -0400 (Tue, 28 Mar 2023)
git_url: https://git.bioconductor.org/packages/rWikiPathways
git_branch: devel
git_last_commit: 609b0e9
git_last_commit_date: 2023-03-15 15:22:31 -0400 (Wed, 15 Mar 2023)
nebbiolo1Linux (Ubuntu 22.04.1 LTS) / x86_64  OK    OK    OK  UNNEEDED, same version is already published
palomino3Windows Server 2022 Datacenter / x64  OK    OK    OK    OK  UNNEEDED, same version is already published
merida1macOS 10.14.6 Mojave / x86_64  OK    OK    OK    OK  UNNEEDED, same version is already published

Summary

Package: rWikiPathways
Version: 1.19.1
Command: /Library/Frameworks/R.framework/Resources/bin/R CMD check --install=check:rWikiPathways.install-out.txt --library=/Library/Frameworks/R.framework/Resources/library --no-vignettes --timings rWikiPathways_1.19.1.tar.gz
StartedAt: 2023-03-29 04:39:00 -0400 (Wed, 29 Mar 2023)
EndedAt: 2023-03-29 04:42:16 -0400 (Wed, 29 Mar 2023)
EllapsedTime: 195.2 seconds
RetCode: 0
Status:   OK  
CheckDir: rWikiPathways.Rcheck
Warnings: 0

Command output

##############################################################################
##############################################################################
###
### Running command:
###
###   /Library/Frameworks/R.framework/Resources/bin/R CMD check --install=check:rWikiPathways.install-out.txt --library=/Library/Frameworks/R.framework/Resources/library --no-vignettes --timings rWikiPathways_1.19.1.tar.gz
###
##############################################################################
##############################################################################


* using log directory ‘/Users/biocbuild/bbs-3.17-bioc/meat/rWikiPathways.Rcheck’
* using R Under development (unstable) (2023-03-16 r83985)
* using platform: x86_64-apple-darwin17.0 (64-bit)
* R was compiled by
    Apple clang version 12.0.0 (clang-1200.0.32.29)
    GNU Fortran (GCC) 8.2.0
* running under: macOS Mojave 10.14.6
* using session charset: UTF-8
* using option ‘--no-vignettes’
* checking for file ‘rWikiPathways/DESCRIPTION’ ... OK
* checking extension type ... Package
* this is package ‘rWikiPathways’ version ‘1.19.1’
* checking package namespace information ... OK
* checking package dependencies ... OK
* checking if this is a source package ... OK
* checking if there is a namespace ... OK
* checking for hidden files and directories ... NOTE
Found the following hidden files and directories:
  .travis.yml
These were most likely included in error. See section ‘Package
structure’ in the ‘Writing R Extensions’ manual.
* checking for portable file names ... NOTE
Found the following non-portable file path:
  rWikiPathways/docs/articles/rWikiPathways-and-BridgeDbR_files/accessible-code-block-0.0.1/empty-anchor.js

Tarballs are only required to store paths of up to 100 bytes and cannot
store those of more than 256 bytes, with restrictions including to 100
bytes for the final component.
See section ‘Package structure’ in the ‘Writing R Extensions’ manual.
* checking for sufficient/correct file permissions ... OK
* checking whether package ‘rWikiPathways’ can be installed ... OK
* checking installed package size ... OK
* checking package directory ... OK
* checking ‘build’ directory ... OK
* checking DESCRIPTION meta-information ... OK
* checking top-level files ... OK
* checking for left-over files ... OK
* checking index information ... OK
* checking package subdirectories ... OK
* checking R files for non-ASCII characters ... OK
* checking R files for syntax errors ... OK
* checking whether the package can be loaded ... OK
* checking whether the package can be loaded with stated dependencies ... OK
* checking whether the package can be unloaded cleanly ... OK
* checking whether the namespace can be loaded with stated dependencies ... OK
* checking whether the namespace can be unloaded cleanly ... OK
* checking dependencies in R code ... OK
* checking S3 generic/method consistency ... OK
* checking replacement functions ... OK
* checking foreign function calls ... OK
* checking R code for possible problems ... NOTE
readPathwayGMT: no visible binding for global variable ‘pathway’
Undefined global functions or variables:
  pathway
* checking Rd files ... OK
* checking Rd metadata ... OK
* checking Rd cross-references ... OK
* checking for missing documentation entries ... OK
* checking for code/documentation mismatches ... OK
* checking Rd \usage sections ... OK
* checking Rd contents ... OK
* checking for unstated dependencies in examples ... OK
* checking files in ‘vignettes’ ... OK
* checking examples ... OK
Examples with CPU (user + system) or elapsed time > 5s
                              user system elapsed
findPathwayIdsByLiterature   0.322  0.024   9.292
findPathwaysByLiterature     0.219  0.005   6.920
findPathwayUrlsByLiterature  0.211  0.008   7.221
findPathwayNamesByLiterature 0.208  0.010  10.444
listPathwayUrls              0.021  0.003   6.406
listPathwayNames             0.019  0.003   6.419
listPathways                 0.019  0.000   7.203
listPathwayIds               0.015  0.002   6.203
* checking for unstated dependencies in ‘tests’ ... OK
* checking tests ...
  Running ‘testthat.R’
 OK
* checking for unstated dependencies in vignettes ... OK
* checking package vignettes in ‘inst/doc’ ... OK
* checking running R code from vignettes ... SKIPPED
* checking re-building of vignette outputs ... SKIPPED
* checking PDF version of manual ... OK
* DONE

Status: 3 NOTEs
See
  ‘/Users/biocbuild/bbs-3.17-bioc/meat/rWikiPathways.Rcheck/00check.log’
for details.



Installation output

rWikiPathways.Rcheck/00install.out

##############################################################################
##############################################################################
###
### Running command:
###
###   /Library/Frameworks/R.framework/Resources/bin/R CMD INSTALL rWikiPathways
###
##############################################################################
##############################################################################


* installing to library ‘/Library/Frameworks/R.framework/Versions/4.3/Resources/library’
* installing *source* package ‘rWikiPathways’ ...
** using staged installation
** R
** inst
** byte-compile and prepare package for lazy loading
** help
*** installing help indices
** building package indices
** installing vignettes
** testing if installed package can be loaded from temporary location
** testing if installed package can be loaded from final location
** testing if installed package keeps a record of temporary installation path
* DONE (rWikiPathways)

Tests output

rWikiPathways.Rcheck/tests/testthat.Rout


R Under development (unstable) (2023-03-16 r83985) -- "Unsuffered Consequences"
Copyright (C) 2023 The R Foundation for Statistical Computing
Platform: x86_64-apple-darwin17.0 (64-bit)

R is free software and comes with ABSOLUTELY NO WARRANTY.
You are welcome to redistribute it under certain conditions.
Type 'license()' or 'licence()' for distribution details.

R is a collaborative project with many contributors.
Type 'contributors()' for more information and
'citation()' on how to cite R or R packages in publications.

Type 'demo()' for some demos, 'help()' for on-line help, or
'help.start()' for an HTML browser interface to help.
Type 'q()' to quit R.

> library(testthat)
> library(rWikiPathways)
> 
> test_check("rWikiPathways")
[ FAIL 0 | WARN 0 | SKIP 0 | PASS 27 ]
> 
> proc.time()
   user  system elapsed 
  3.583   0.232  33.272 

Example timings

rWikiPathways.Rcheck/rWikiPathways-Ex.timings

nameusersystemelapsed
downloadPathwayArchive000
findPathwayIdsByLiterature0.3220.0249.292
findPathwayIdsByText0.0170.0021.484
findPathwayIdsByXref0.0270.0020.663
findPathwayNamesByLiterature 0.208 0.01010.444
findPathwayNamesByText0.0160.0021.276
findPathwayNamesByXref0.0180.0010.540
findPathwayUrlsByLiterature0.2110.0087.221
findPathwayUrlsByText0.0180.0031.160
findPathwayUrlsByXref0.0190.0010.513
findPathwaysByLiterature0.2190.0056.920
findPathwaysByText0.0190.0011.151
findPathwaysByXref0.0200.0010.508
getCurationTagNames0.0100.0000.088
getCurationTags0.0100.0010.086
getEveryCurationTag0.0890.0761.341
getOntologyTermIds0.010.000.07
getOntologyTermNames0.0090.0010.067
getOntologyTerms0.0100.0010.073
getPathway0.0320.0010.094
getPathwayHistory0.0100.0010.070
getPathwayIdsByCurationTag0.0250.0020.793
getPathwayIdsByOntologyTerm0.0100.0010.098
getPathwayIdsByParentOntologyTerm0.0100.0000.094
getPathwayInfo0.0140.0000.074
getPathwaysByCurationTag0.0510.0300.861
getPathwaysByOntologyTerm0.0100.0010.087
getPathwaysByParentOntologyTerm0.0110.0020.088
getRecentChanges0.0320.0210.481
getRecentChangesIds0.0130.0010.302
getRecentChangesNames0.0240.0020.313
getXrefList0.0100.0010.309
listOrganisms0.0100.0010.066
listPathwayIds0.0150.0026.203
listPathwayNames0.0190.0036.419
listPathwayUrls0.0210.0036.406
listPathways0.0190.0007.203
readGMT000
readGMTnames000
readPathwayGMT0.0010.0000.000
wikipathwaysAPI0.0010.0000.001
wikipathwaysGET0.0090.0010.077
writeGMT000