Index of /checkResults/devel/bioc-LATEST/goSorensen/raw-results
Name
Last modified
Size
Description
Parent Directory
-
info.dcf
03-Dec-2023 01:38
1.1K
kunpeng2/
03-Dec-2023 01:38
-
merida1/
03-Dec-2023 01:37
-
nebbiolo1/
03-Dec-2023 01:35
-
palomino3/
03-Dec-2023 01:36
-