Index of /checkResults/devel/bioc-LATEST/goSorensen/raw-results/palomino3

[ICO]NameLast modifiedSizeDescription

[DIR]Parent Directory  -  
[TXT]buildbin-out.txt23-Feb-2024 02:48 1.1K 
[   ]buildbin-summary.dcf23-Feb-2024 02:48 530  
[TXT]buildsrc-out.txt23-Feb-2024 02:48 913  
[   ]buildsrc-summary.dcf23-Feb-2024 02:48 463  
[TXT]checksrc-out.txt23-Feb-2024 02:48 3.5K 
[   ]checksrc-summary.dcf23-Feb-2024 02:48 458  
[TXT]install-out.txt23-Feb-2024 02:48 971  
[   ]install-summary.dcf23-Feb-2024 02:48 273