Index of /checkResults/devel/bioc-LATEST/goSorensen/raw-results/merida1

[ICO]NameLast modifiedSizeDescription

[DIR]Parent Directory  -  
[TXT]buildbin-out.txt02-Mar-2024 01:39 1.2K 
[   ]buildbin-summary.dcf02-Mar-2024 01:39 545  
[TXT]buildsrc-out.txt02-Mar-2024 01:39 890  
[   ]buildsrc-summary.dcf02-Mar-2024 01:39 435  
[TXT]checksrc-out.txt02-Mar-2024 01:39 3.3K 
[   ]checksrc-summary.dcf02-Mar-2024 01:39 464  
[TXT]install-out.txt02-Mar-2024 01:39 1.0K 
[   ]install-summary.dcf02-Mar-2024 01:39 274