Index of /checkResults/devel/bioc-LATEST/goSorensen/raw-results/nebbiolo1

[ICO]NameLast modifiedSizeDescription

[DIR]Parent Directory  -  
[TXT]buildsrc-out.txt23-Feb-2024 02:48 880  
[   ]buildsrc-summary.dcf23-Feb-2024 02:48 425  
[TXT]checksrc-out.txt23-Feb-2024 02:48 3.5K 
[   ]checksrc-summary.dcf23-Feb-2024 02:48 425  
[TXT]install-out.txt23-Feb-2024 02:48 961  
[   ]install-summary.dcf23-Feb-2024 02:48 264