Index of /checkResults/devel/bioc-LATEST/geneAttribution/raw-results

[ICO]NameLast modifiedSizeDescription

[DIR]Parent Directory  -  
[   ]info.dcf05-Mar-2024 01:35 277  
[DIR]kunpeng2/05-Mar-2024 01:40 -  
[DIR]merida1/05-Mar-2024 01:39 -  
[DIR]nebbiolo1/05-Mar-2024 01:36 -  
[DIR]palomino3/05-Mar-2024 01:37 -