Index of /checkResults/devel/bioc-LATEST/geneAttribution/raw-results/lconway

[ICO]NameLast modifiedSizeDescription

[DIR]Parent Directory  -  
[TXT]buildbin-out.txt25-Jun-2022 00:07 1.2K 
[   ]buildbin-summary.dcf25-Jun-2022 00:07 578  
[TXT]buildsrc-out.txt25-Jun-2022 00:07 848  
[   ]buildsrc-summary.dcf25-Jun-2022 00:07 451  
[TXT]checksrc-out.txt25-Jun-2022 00:07 3.2K 
[   ]checksrc-summary.dcf25-Jun-2022 00:07 476  
[TXT]install-out.txt25-Jun-2022 00:07 1.0K 
[   ]install-summary.dcf25-Jun-2022 00:07 285