Index of /checkResults/devel/bioc-LATEST/geneAttribution/raw-results/nebbiolo2

[ICO]NameLast modifiedSizeDescription

[DIR]Parent Directory  -  
[TXT]buildsrc-out.txt07-Jul-2022 00:05 838  
[   ]buildsrc-summary.dcf07-Jul-2022 00:05 441  
[TXT]checksrc-out.txt07-Jul-2022 00:05 3.0K 
[   ]checksrc-summary.dcf07-Jul-2022 00:05 456  
[TXT]install-out.txt07-Jul-2022 00:05 971  
[   ]install-summary.dcf07-Jul-2022 00:05 275