Index of /checkResults/devel/bioc-LATEST/geneAttribution/raw-results

[ICO]NameLast modifiedSizeDescription

[DIR]Parent Directory  -  
[DIR]nebbiolo1/22-Mar-2023 00:05 -  
[DIR]palomino3/22-Mar-2023 00:05 -  
[   ]info.dcf22-Mar-2023 00:06 278  
[DIR]merida1/22-Mar-2023 00:06 -