Index of /checkResults/devel/bioc-LATEST/flowFP/raw-results

[ICO]NameLast modifiedSizeDescription

[DIR]Parent Directory  -  
[DIR]palomino3/07-Dec-2023 01:36 -  
[DIR]nebbiolo1/07-Dec-2023 01:35 -  
[DIR]merida1/07-Dec-2023 01:38 -  
[DIR]kunpeng2/07-Dec-2023 01:39 -  
[   ]info.dcf07-Dec-2023 01:39 1.2K