![]() | Name | Last modified | Size | Description |
---|---|---|---|---|
![]() | Parent Directory | - | ||
![]() | buildsrc-out.txt | 05-Oct-2023 00:36 | 943 | |
![]() | buildsrc-summary.dcf | 05-Oct-2023 00:36 | 413 | |
![]() | checksrc-out.txt | 05-Oct-2023 00:36 | 4.1K | |
![]() | checksrc-summary.dcf | 05-Oct-2023 00:36 | 409 | |
![]() | install-out.txt | 05-Oct-2023 00:36 | 1.9K | |
![]() | install-summary.dcf | 05-Oct-2023 00:36 | 257 | |