Index of /checkResults/devel/bioc-LATEST/flowFP/raw-results/merida1

[ICO]NameLast modifiedSizeDescription

[DIR]Parent Directory  -  
[TXT]buildbin-out.txt18-Feb-2024 16:28 4.1K 
[   ]buildbin-summary.dcf18-Feb-2024 16:28 524  
[TXT]buildsrc-out.txt18-Feb-2024 16:28 953  
[   ]buildsrc-summary.dcf18-Feb-2024 16:28 423  
[TXT]checksrc-out.txt18-Feb-2024 16:28 4.1K 
[   ]checksrc-summary.dcf18-Feb-2024 16:28 440  
[TXT]install-out.txt18-Feb-2024 16:28 2.2K 
[   ]install-summary.dcf18-Feb-2024 16:28 267