Index of /checkResults/devel/bioc-LATEST/flowFP/raw-results/palomino4

[ICO]NameLast modifiedSizeDescription

[DIR]Parent Directory  -  
[TXT]buildbin-out.txt30-Sep-2023 01:03 2.3K 
[   ]buildbin-summary.dcf30-Sep-2023 01:03 509  
[TXT]buildsrc-out.txt30-Sep-2023 01:03 1.1K 
[   ]buildsrc-summary.dcf30-Sep-2023 01:03 448  
[TXT]checksrc-out.txt30-Sep-2023 01:03 4.5K 
[   ]checksrc-summary.dcf30-Sep-2023 01:03 442  
[TXT]install-out.txt30-Sep-2023 01:03 2.1K 
[   ]install-summary.dcf30-Sep-2023 01:03 266