Index of /checkResults/devel/bioc-LATEST/easyRNASeq/raw-results

[ICO]NameLast modifiedSizeDescription

[DIR]Parent Directory  -  
[DIR]nebbiolo2/11-Jun-2023 00:05 -  
[DIR]palomino4/11-Jun-2023 00:06 -  
[DIR]lconway/11-Jun-2023 00:08 -  
[   ]info.dcf11-Jun-2023 00:09 277  
[DIR]kunpeng2/11-Jun-2023 00:09 -