![]() | Name | Last modified | Size | Description |
---|---|---|---|---|
![]() | Parent Directory | - | ||
![]() | buildsrc-out.txt | 24-Sep-2023 00:39 | 875 | |
![]() | buildsrc-summary.dcf | 24-Sep-2023 00:39 | 421 | |
![]() | checksrc-out.txt | 24-Sep-2023 00:39 | 5.1K | |
![]() | checksrc-summary.dcf | 24-Sep-2023 00:39 | 415 | |
![]() | install-out.txt | 24-Sep-2023 00:39 | 1.5K | |
![]() | install-summary.dcf | 24-Sep-2023 00:39 | 259 | |