![]() | Name | Last modified | Size | Description |
---|---|---|---|---|
![]() | Parent Directory | - | ||
![]() | buildbin-out.txt | 24-Sep-2023 00:37 | 1.6K | |
![]() | buildbin-summary.dcf | 24-Sep-2023 00:37 | 533 | |
![]() | buildsrc-out.txt | 24-Sep-2023 00:37 | 914 | |
![]() | buildsrc-summary.dcf | 24-Sep-2023 00:37 | 465 | |
![]() | checksrc-out.txt | 24-Sep-2023 00:37 | 5.0K | |
![]() | checksrc-summary.dcf | 24-Sep-2023 00:37 | 459 | |
![]() | install-out.txt | 24-Sep-2023 00:37 | 1.4K | |
![]() | install-summary.dcf | 24-Sep-2023 00:37 | 274 | |