Index of /checkResults/devel/bioc-LATEST/easyRNASeq/raw-results/lconway

[ICO]NameLast modifiedSizeDescription

[DIR]Parent Directory  -  
[TXT]buildbin-out.txt24-Sep-2023 00:38 1.7K 
[   ]buildbin-summary.dcf24-Sep-2023 00:38 548  
[TXT]buildsrc-out.txt24-Sep-2023 00:38 891  
[   ]buildsrc-summary.dcf24-Sep-2023 00:38 437  
[TXT]checksrc-out.txt24-Sep-2023 00:38 5.1K 
[   ]checksrc-summary.dcf24-Sep-2023 00:38 456  
[TXT]install-out.txt24-Sep-2023 00:38 1.5K 
[   ]install-summary.dcf24-Sep-2023 00:38 275