Back to Multiple platform build/check report for BioC 3.14
AB[C]DEFGHIJKLMNOPQRSTUVWXYZ

This page was generated on 2021-10-22 12:04:54 -0400 (Fri, 22 Oct 2021).

BUILD BIN results for coseq on merida1

To the developers/maintainers of the coseq package:
- Please allow up to 24 hours (and sometimes 48 hours) for your latest push to git@git.bioconductor.org:packages/coseq.git to
reflect on this report. See How and When does the builder pull? When will my changes propagate? here for more information.
- Make sure to use the following settings in order to reproduce any error or warning you see on this page.

raw results

Package 401/2075HostnameOS / ArchINSTALLBUILDCHECKBUILD BIN
coseq 1.17.2  (landing page)
Andrea Rau
Snapshot Date: 2021-10-21 14:50:08 -0400 (Thu, 21 Oct 2021)
git_url: https://git.bioconductor.org/packages/coseq
git_branch: master
git_last_commit: 8fc04ca
git_last_commit_date: 2021-07-21 03:53:14 -0400 (Wed, 21 Jul 2021)
nebbiolo2Linux (Ubuntu 20.04.2 LTS) / x86_64  OK    OK    OK  UNNEEDED, same version is already published
riesling1Windows Server 2019 Standard / x64  OK    OK    OK    OK  UNNEEDED, same version is already published
merida1macOS 10.14.6 Mojave / x86_64  OK    OK    OK    OK  UNNEEDED, same version is already published

Summary

Package: coseq
Version: 1.17.2
Command: rm -rf coseq.buildbin-libdir && mkdir coseq.buildbin-libdir && /Users/biocbuild/BBS/utils/build-universal.sh coseq_1.17.2.tar.gz /Library/Frameworks/R.framework/Resources/bin/R coseq.buildbin-libdir
StartedAt: 2021-10-22 11:47:47 -0400 (Fri, 22 Oct 2021)
EndedAt: 2021-10-22 11:48:38 -0400 (Fri, 22 Oct 2021)
EllapsedTime: 51.1 seconds
RetCode: 0
Status:   OK  
PackageFile: coseq_1.17.2.tgz
PackageFileSize: 2.062 MiB

Command output

##############################################################################
##############################################################################
###
### Running command:
###
###   rm -rf coseq.buildbin-libdir && mkdir coseq.buildbin-libdir && /Users/biocbuild/BBS/utils/build-universal.sh coseq_1.17.2.tar.gz /Library/Frameworks/R.framework/Resources/bin/R coseq.buildbin-libdir
###
##############################################################################
##############################################################################


>>>>>>> 
>>>>>>> INSTALLATION WITH 'R CMD INSTALL --preclean --no-multiarch --library=coseq.buildbin-libdir coseq_1.17.2.tar.gz'
>>>>>>> 

* installing *source* package ‘coseq’ ...
** using staged installation
** R
** data
** inst
** byte-compile and prepare package for lazy loading
Creating a new generic function for ‘plot’ in package ‘coseq’
** help
*** installing help indices
** building package indices
** installing vignettes
** testing if installed package can be loaded from temporary location
** testing if installed package can be loaded from final location
** testing if installed package keeps a record of temporary installation path
* DONE (coseq)