Back to Multiple platform build/check report for BioC 3.14
ABCDEFGHIJKLMNOPQR[S]TUVWXYZ

This page was generated on 2021-10-22 12:05:11 -0400 (Fri, 22 Oct 2021).

BUILD results for SIMD on merida1

To the developers/maintainers of the SIMD package:
- Please allow up to 24 hours (and sometimes 48 hours) for your latest push to git@git.bioconductor.org:packages/SIMD.git to
reflect on this report. See How and When does the builder pull? When will my changes propagate? here for more information.
- Make sure to use the following settings in order to reproduce any error or warning you see on this page.

raw results

Package 1792/2075HostnameOS / ArchINSTALLBUILDCHECKBUILD BIN
SIMD 1.11.0  (landing page)
Jiadi Zhu
Snapshot Date: 2021-10-21 14:50:08 -0400 (Thu, 21 Oct 2021)
git_url: https://git.bioconductor.org/packages/SIMD
git_branch: master
git_last_commit: 3423147
git_last_commit_date: 2021-05-19 12:37:59 -0400 (Wed, 19 May 2021)
nebbiolo2Linux (Ubuntu 20.04.2 LTS) / x86_64  OK    OK    OK  UNNEEDED, same version is already published
riesling1Windows Server 2019 Standard / x64  OK    OK    OK    OK  UNNEEDED, same version is already published
merida1macOS 10.14.6 Mojave / x86_64  OK    OK    OK    NA  

Summary

Package: SIMD
Version: 1.11.0
Command: /Library/Frameworks/R.framework/Resources/bin/R CMD build --keep-empty-dirs --no-resave-data SIMD
StartedAt: 2021-10-21 23:20:07 -0400 (Thu, 21 Oct 2021)
EndedAt: 2021-10-21 23:20:26 -0400 (Thu, 21 Oct 2021)
EllapsedTime: 18.8 seconds
RetCode: 0
Status:   OK  
PackageFile: SIMD_1.11.0.tar.gz
PackageFileSize: 332.8 KiB

Command output

##############################################################################
##############################################################################
###
### Running command:
###
###   /Library/Frameworks/R.framework/Resources/bin/R CMD build --keep-empty-dirs --no-resave-data SIMD
###
##############################################################################
##############################################################################


* checking for file ‘SIMD/DESCRIPTION’ ... OK
* preparing ‘SIMD’:
* checking DESCRIPTION meta-information ... OK
* cleaning src
* installing the package to build vignettes
* creating vignettes ... OK
* cleaning src
* checking for LF line-endings in source and make files and shell scripts
* checking for empty or unneeded directories
* building ‘SIMD_1.11.0.tar.gz’