Back to Multiple platform build/check report for BioC 3.15
ABCDEFGHIJKLMNOPQR[S]TUVWXYZ

This page was generated on 2022-01-24 11:12:00 -0500 (Mon, 24 Jan 2022).

HostnameOSArch (*)R versionInstalled pkgs
nebbiolo1Linux (Ubuntu 20.04.4 LTS)x86_64R Under development (unstable) (2022-01-05 r81451) -- "Unsuffered Consequences" 4163
riesling1Windows Server 2019 Standardx64R Under development (unstable) (2021-11-21 r81221) -- "Unsuffered Consequences" 4058
palomino3Windows Server 2022 Datacenterx64R Under development (unstable) (2021-12-21 r81400 ucrt) -- "Unsuffered Consequences" 4000
merida1macOS 10.14.6 Mojavex86_64R Under development (unstable) (2022-01-05 r81451) -- "Unsuffered Consequences" 4117
Click on any hostname to see more info about the system (e.g. compilers)      (*) as reported by 'uname -p', except on Windows and Mac OS X

CHECK results for SBGNview on merida1


To the developers/maintainers of the SBGNview package:
- Please allow up to 24 hours (and sometimes 48 hours) for your latest push to git@git.bioconductor.org:packages/SBGNview.git to
reflect on this report. See How and When does the builder pull? When will my changes propagate? here for more information.
- Make sure to use the following settings in order to reproduce any error or warning you see on this page.

raw results

Package 1692/2075HostnameOS / ArchINSTALLBUILDCHECKBUILD BIN
SBGNview 1.9.0  (landing page)
Weijun Luo
Snapshot Date: 2022-01-23 13:55:15 -0500 (Sun, 23 Jan 2022)
git_url: https://git.bioconductor.org/packages/SBGNview
git_branch: master
git_last_commit: c9a6db7
git_last_commit_date: 2021-10-26 12:52:48 -0500 (Tue, 26 Oct 2021)
nebbiolo1Linux (Ubuntu 20.04.4 LTS) / x86_64  OK    OK    OK  UNNEEDED, same version is already published
riesling1Windows Server 2019 Standard / x64  OK    OK    OK    OK  
palomino3Windows Server 2022 Datacenter / x64  OK    OK    OK    OK  NO, package depends on 'pathview' which is not available
merida1macOS 10.14.6 Mojave / x86_64  OK    OK    OK    OK  UNNEEDED, same version is already published

Summary

Package: SBGNview
Version: 1.9.0
Command: /Library/Frameworks/R.framework/Resources/bin/R CMD check --install=check:SBGNview.install-out.txt --library=/Library/Frameworks/R.framework/Resources/library --no-vignettes --timings SBGNview_1.9.0.tar.gz
StartedAt: 2022-01-24 05:21:33 -0500 (Mon, 24 Jan 2022)
EndedAt: 2022-01-24 05:28:20 -0500 (Mon, 24 Jan 2022)
EllapsedTime: 407.3 seconds
RetCode: 0
Status:   OK  
CheckDir: SBGNview.Rcheck
Warnings: 0

Command output

##############################################################################
##############################################################################
###
### Running command:
###
###   /Library/Frameworks/R.framework/Resources/bin/R CMD check --install=check:SBGNview.install-out.txt --library=/Library/Frameworks/R.framework/Resources/library --no-vignettes --timings SBGNview_1.9.0.tar.gz
###
##############################################################################
##############################################################################


* using log directory ‘/Users/biocbuild/bbs-3.15-bioc/meat/SBGNview.Rcheck’
* using R Under development (unstable) (2022-01-05 r81451)
* using platform: x86_64-apple-darwin17.0 (64-bit)
* using session charset: UTF-8
* using option ‘--no-vignettes’
* checking for file ‘SBGNview/DESCRIPTION’ ... OK
* this is package ‘SBGNview’ version ‘1.9.0’
* package encoding: UTF-8
* checking package namespace information ... OK
* checking package dependencies ... OK
* checking if this is a source package ... OK
* checking if there is a namespace ... OK
* checking for hidden files and directories ... NOTE
Found the following hidden files and directories:
  .git_fetch_output.txt
  .git_merge_output.txt
These were most likely included in error. See section ‘Package
structure’ in the ‘Writing R Extensions’ manual.
* checking for portable file names ... OK
* checking for sufficient/correct file permissions ... OK
* checking whether package ‘SBGNview’ can be installed ... OK
* checking installed package size ... OK
* checking package directory ... OK
* checking ‘build’ directory ... OK
* checking DESCRIPTION meta-information ... OK
* checking top-level files ... OK
* checking for left-over files ... OK
* checking index information ... OK
* checking package subdirectories ... OK
* checking R files for non-ASCII characters ... OK
* checking R files for syntax errors ... OK
* checking whether the package can be loaded ... OK
* checking whether the package can be loaded with stated dependencies ... OK
* checking whether the package can be unloaded cleanly ... OK
* checking whether the namespace can be loaded with stated dependencies ... OK
* checking whether the namespace can be unloaded cleanly ... OK
* checking dependencies in R code ... NOTE
Namespace in Imports field not imported from: ‘bookdown’
  All declared Imports should be used.
* checking S3 generic/method consistency ... OK
* checking replacement functions ... OK
* checking foreign function calls ... OK
* checking R code for possible problems ... NOTE
File ‘SBGNview/R/zzz.R’:
  .onLoad calls:
    packageStartupMessage(disclaimer)

See section ‘Good practice’ in '?.onAttach'.

generate.cpd.mapping.table: no visible binding for global variable
  ‘cpd.simtypes’
generate.ko.mapping.list: no visible binding for global variable ‘korg’
loadMappingTable: no visible binding for global variable ‘korg’
mapping.ko.to.arbitrary.id.type: no visible binding for global variable
  ‘gene.idtype.list’
mapping.ko.to.arbitrary.id.type: no visible binding for global variable
  ‘korg’
mol.sum.multiple.mapping: no visible binding for global variable ‘IQR’
Undefined global functions or variables:
  IQR cpd.simtypes gene.idtype.list korg
Consider adding
  importFrom("stats", "IQR")
to your NAMESPACE file.
* checking Rd files ... OK
* checking Rd metadata ... OK
* checking Rd cross-references ... OK
* checking for missing documentation entries ... OK
* checking for code/documentation mismatches ... OK
* checking Rd \usage sections ... OK
* checking Rd contents ... OK
* checking for unstated dependencies in examples ... OK
* checking contents of ‘data’ directory ... OK
* checking data for non-ASCII characters ... OK
* checking data for ASCII and uncompressed saves ... OK
* checking files in ‘vignettes’ ... OK
* checking examples ... OK
Examples with CPU (user + system) or elapsed time > 5s
                   user system elapsed
SBGNview         21.171  0.808  22.286
sbgnNodes        11.448  0.239  11.701
print.SBGNview    8.383  0.089   8.481
downloadSbgnFile  7.624  0.086   7.722
* checking for unstated dependencies in ‘tests’ ... OK
* checking tests ...
  Running ‘testthat.R’
 OK
* checking for unstated dependencies in vignettes ... OK
* checking package vignettes in ‘inst/doc’ ... OK
* checking running R code from vignettes ... SKIPPED
* checking re-building of vignette outputs ... SKIPPED
* checking PDF version of manual ... OK
* DONE

Status: 3 NOTEs
See
  ‘/Users/biocbuild/bbs-3.15-bioc/meat/SBGNview.Rcheck/00check.log’
for details.



Installation output

SBGNview.Rcheck/00install.out

##############################################################################
##############################################################################
###
### Running command:
###
###   /Library/Frameworks/R.framework/Resources/bin/R CMD INSTALL SBGNview
###
##############################################################################
##############################################################################


* installing to library ‘/Library/Frameworks/R.framework/Versions/4.2/Resources/library’
* installing *source* package ‘SBGNview’ ...
** using staged installation
** R
** data
** inst
** byte-compile and prepare package for lazy loading
** help
*** installing help indices
** building package indices
** installing vignettes
** testing if installed package can be loaded from temporary location
** testing if installed package can be loaded from final location
** testing if installed package keeps a record of temporary installation path
* DONE (SBGNview)

Tests output

SBGNview.Rcheck/tests/testthat.Rout


R Under development (unstable) (2022-01-05 r81451) -- "Unsuffered Consequences"
Copyright (C) 2022 The R Foundation for Statistical Computing
Platform: x86_64-apple-darwin17.0 (64-bit)

R is free software and comes with ABSOLUTELY NO WARRANTY.
You are welcome to redistribute it under certain conditions.
Type 'license()' or 'licence()' for distribution details.

R is a collaborative project with many contributors.
Type 'contributors()' for more information and
'citation()' on how to cite R or R packages in publications.

Type 'demo()' for some demos, 'help()' for on-line help, or
'help.start()' for an HTML browser interface to help.
Type 'q()' to quit R.

> library(testthat)
> library(SBGNview)
Loading required package: pathview

##############################################################################
Pathview is an open source software package distributed under GNU General
Public License version 3 (GPLv3). Details of GPLv3 is available at
http://www.gnu.org/licenses/gpl-3.0.html. Particullary, users are required to
formally cite the original Pathview paper (not just mention it) in publications
or products. For details, do citation("pathview") within R.

The pathview downloads and uses KEGG data. Non-academic uses may require a KEGG
license agreement (details at http://www.kegg.jp/kegg/legal.html).
##############################################################################
Loading required package: SBGNview.data
##############################################################################
SBGNview is an open source software package distributed under GNU General
Public License version 3 (GPLv3). Details of GPLv3 is available at
http://www.gnu.org/licenses/gpl-3.0.html.

Users are required to formally cite the SBGNview paper and Pathview paper (not
just mention them) in publications or products. For details, do
'citation("SBGNview"); citation("Pathview")' within R.
##############################################################################
> 
> test_check("SBGNview")
trying URL 'https://raw.githubusercontent.com/datapplab/SBGNhub/master/data/id.mapping.unique.pair.name/compound.name_metacyc.SBGN.RData'
Content type 'application/octet-stream' length 1795999 bytes (1.7 MB)
==================================================
downloaded 1.7 MB

trying URL 'https://raw.githubusercontent.com/datapplab/SBGNhub/master/data/id.mapping.unique.pair.name/kegg_metacyc.SBGN.RData'
Content type 'application/octet-stream' length 171925 bytes (167 KB)
==================================================
downloaded 167 KB

trying URL 'https://raw.githubusercontent.com/datapplab/SBGNhub/master/data/id.mapping.unique.pair.name/kegg_pathway.id.RData'
Content type 'application/octet-stream' length 195623 bytes (191 KB)
==================================================
downloaded 191 KB

[ FAIL 0 | WARN 0 | SKIP 0 | PASS 14 ]
> 
> proc.time()
   user  system elapsed 
 37.781   1.315  46.263 

Example timings

SBGNview.Rcheck/SBGNview-Ex.timings

nameusersystemelapsed
SBGNview21.171 0.80822.286
changeDataId0.0190.0040.024
changeIds1.3850.0261.413
downloadSbgnFile7.6240.0867.722
findPathways0.0750.0020.078
highlightArcs000
highlightNodes0.0000.0000.001
highlightPath000
loadMappingTable1.1890.0111.201
outputFile-set000
outputFile0.0000.0000.001
plus-.SBGNview0.0010.0000.000
print.SBGNview8.3830.0898.481
renderSbgn0.0000.0000.001
sbgn.gsets1.8780.0991.979
sbgnNodes11.448 0.23911.701