Index of /checkResults/devel/bioc-LATEST/Rhisat2/raw-results

[ICO]NameLast modifiedSizeDescription

[DIR]Parent Directory  -  
[DIR]kunpeng2/03-Oct-2023 00:40 -  
[DIR]lconway/03-Oct-2023 00:39 -  
[DIR]nebbiolo2/03-Oct-2023 00:36 -  
[DIR]palomino4/03-Oct-2023 00:38 -  
[   ]info.dcf03-Oct-2023 00:40 275