![]() | Name | Last modified | Size | Description |
---|---|---|---|---|
![]() | Parent Directory | - | ||
![]() | buildbin-out.txt | 28-Sep-2023 00:39 | 76K | |
![]() | buildbin-summary.dcf | 28-Sep-2023 00:39 | 531 | |
![]() | buildsrc-out.txt | 28-Sep-2023 00:39 | 846 | |
![]() | buildsrc-summary.dcf | 28-Sep-2023 00:39 | 428 | |
![]() | checksrc-out.txt | 28-Sep-2023 00:39 | 4.7K | |
![]() | checksrc-summary.dcf | 28-Sep-2023 00:39 | 450 | |
![]() | install-out.txt | 28-Sep-2023 00:39 | 74K | |
![]() | install-summary.dcf | 28-Sep-2023 00:39 | 270 | |