Index of /checkResults/devel/bioc-LATEST/Rhisat2/raw-results/kunpeng2

[ICO]NameLast modifiedSizeDescription

[DIR]Parent Directory  -  
[TXT]buildsrc-out.txt30-Nov-2023 01:38 845  
[   ]buildsrc-summary.dcf30-Nov-2023 01:38 427  
[TXT]checksrc-out.txt30-Nov-2023 01:38 5.1K 
[   ]checksrc-summary.dcf30-Nov-2023 01:38 453  
[TXT]install-out.txt30-Nov-2023 01:38 73K 
[   ]install-summary.dcf30-Nov-2023 01:38 269