![]() | Name | Last modified | Size | Description |
---|---|---|---|---|
![]() | Parent Directory | - | ||
![]() | buildsrc-out.txt | 05-Oct-2023 00:37 | 836 | |
![]() | buildsrc-summary.dcf | 05-Oct-2023 00:37 | 418 | |
![]() | checksrc-out.txt | 05-Oct-2023 00:37 | 5.3K | |
![]() | checksrc-summary.dcf | 05-Oct-2023 00:37 | 420 | |
![]() | install-out.txt | 05-Oct-2023 00:37 | 80K | |
![]() | install-summary.dcf | 05-Oct-2023 00:37 | 260 | |