Index of /checkResults/devel/bioc-LATEST/Melissa/raw-results

[ICO]NameLast modifiedSizeDescription

[DIR]Parent Directory  -  
[   ]info.dcf18-Feb-2024 16:29 1.1K 
[DIR]kunpeng2/18-Feb-2024 16:29 -  
[DIR]merida1/18-Feb-2024 16:28 -  
[DIR]nebbiolo1/18-Feb-2024 16:26 -  
[DIR]palomino3/18-Feb-2024 16:27 -