Index of /checkResults/devel/bioc-LATEST/Melissa/raw-results

[ICO]NameLast modifiedSizeDescription

[DIR]Parent Directory  -  
[   ]info.dcf05-Mar-2024 01:35 275  
[DIR]nebbiolo1/05-Mar-2024 01:36 -  
[DIR]palomino3/05-Mar-2024 01:38 -  
[DIR]merida1/05-Mar-2024 01:39 -  
[DIR]kunpeng2/05-Mar-2024 01:40 -