Index of /checkResults/devel/bioc-LATEST/Melissa/raw-results/nebbiolo2

[ICO]NameLast modifiedSizeDescription

[DIR]Parent Directory  -  
[TXT]buildsrc-out.txt24-Sep-2023 00:36 806  
[   ]buildsrc-summary.dcf24-Sep-2023 00:36 418  
[TXT]checksrc-out.txt24-Sep-2023 00:36 3.7K 
[   ]checksrc-summary.dcf24-Sep-2023 00:36 414  
[TXT]install-out.txt24-Sep-2023 00:36 1.0K 
[   ]install-summary.dcf24-Sep-2023 00:36 259